BEGIN:VCALENDAR
VERSION:2.0
PRODID:-//Squarespace Inc/Squarespace 6//v6//EN
BEGIN:VEVENT
UID:540d6d8ee4b0bb88c083ef2d@squarespace.com
DTSTAMP:20141103T003709Z
DTSTART:20141018T191500Z
DTEND:20141019T001500Z
SUMMARY:The Little Big Markets - Papamoa
GEO:-37.697531;176.285952
LOCATION:The Little Big Markets\, 561 Papamoa Beach Rd\, Papamoa\, Bay Of P
 lenty\, 3118\, New Zealand
END:VEVENT
END:VCALENDAR
