BEGIN:VCALENDAR
VERSION:2.0
PRODID:-//Squarespace Inc/Squarespace 6//v6//EN
BEGIN:VEVENT
UID:540d716ce4b034ea940d32e7@squarespace.com
DTSTAMP:20140908T090953Z
DTSTART:20141026T190000Z
DTEND:20141027T010000Z
SUMMARY:Tauranga Arts Festival
GEO:-37.707913;176.153622
LOCATION:Tauranga Arts Festival\, 17th Ave\, Tauranga\, Bay Of Plenty\, 311
 2\, New Zealand
END:VEVENT
END:VCALENDAR
