BEGIN:VCALENDAR
VERSION:2.0
PRODID:-//Squarespace Inc/Squarespace 6//v6//EN
BEGIN:VEVENT
UID:540f738de4b0f43bcd38fb34@squarespace.com
DTSTAMP:20141103T002936Z
DTSTART:20141113T034500Z
DTEND:20141113T071500Z
SUMMARY:Dinner in the Domain
GEO:-37.697531;176.285952
LOCATION:Dinner in the Domain\, 561 Papamoa Beach Rd\, Papamoa\, New Zealan
 d
END:VEVENT
END:VCALENDAR
