BEGIN:VCALENDAR
VERSION:2.0
PRODID:-//Squarespace Inc/Squarespace 6//v6//EN
BEGIN:VEVENT
UID:540d726ce4b0372b63c4f41f@squarespace.com
DTSTAMP:20141103T072351Z
DTSTART:20141031T191500Z
DTEND:20141101T001500Z
SUMMARY:The Little Big Markets - Mount Maunganui
GEO:-37.646875;176.190383
LOCATION:The Little Big Markets\, 410 Maunganui Rd\, Tauranga\, Bay Of Plen
 ty\, 3116\, New Zealand
END:VEVENT
END:VCALENDAR
