BEGIN:VCALENDAR
VERSION:2.0
PRODID:-//Squarespace Inc/Squarespace 6//v6//EN
BEGIN:VEVENT
UID:5456da3de4b0a722e62ceddf@squarespace.com
DTSTAMP:20141103T014535Z
DTSTART:20141122T041500Z
DTEND:20141122T081500Z
SUMMARY:Night Owl Cinema
GEO:-37.634646;176.183123
LOCATION:Night Owl Cinema\, Mt Drury Reserve\, Mount Maunganui\, New Zealan
 d
END:VEVENT
END:VCALENDAR
