BEGIN:VCALENDAR
VERSION:2.0
PRODID:-//Squarespace Inc/Squarespace 6//v6//EN
BEGIN:VEVENT
UID:540f770ee4b0419281da9a83@squarespace.com
DTSTAMP:20141103T003517Z
DTSTART:20141127T034500Z
DTEND:20141127T071500Z
SUMMARY:Dinner in the Domain
GEO:-37.697531;176.285952
LOCATION:Dinner in the Domain\, 561 Papamoa Beach Rd\, Papamoa\, Bay Of Ple
 nty\, 3118\, New Zealand
END:VEVENT
END:VCALENDAR
