BEGIN:VCALENDAR
VERSION:2.0
PRODID:-//Squarespace Inc/Squarespace 6//v6//EN
BEGIN:VEVENT
UID:540f71f2e4b07bc380c1c169@squarespace.com
DTSTAMP:20141103T095314Z
DTSTART:20141106T034500Z
DTEND:20141106T071500Z
SUMMARY:Dinner in the Domain Launch
GEO:-37.697531;176.285952
LOCATION:Dinner in the Domain\, 561 Papamoa Beach Rd\, Papamoa\, Bay Of Ple
 nty\, 3118\, New Zealand
END:VEVENT
END:VCALENDAR
