BEGIN:VCALENDAR
VERSION:2.0
PRODID:-//Squarespace Inc/Squarespace 6//v6//EN
BEGIN:VEVENT
UID:540f7560e4b0b9bdbd0a40c6@squarespace.com
DTSTAMP:20141103T003354Z
DTSTART:20141108T041500Z
DTEND:20141108T081500Z
SUMMARY:Night Owl Cinema
GEO:-37.634646;176.183123
LOCATION:Night Owl Cinema\, Mt Drury Reserve\, Mount Maunganui\, New Zealan
 d
END:VEVENT
END:VCALENDAR
