BEGIN:VCALENDAR
VERSION:2.0
PRODID:-//Squarespace Inc/Squarespace 6//v6//EN
BEGIN:VEVENT
UID:540faf2ee4b080f6d4984485@squarespace.com
DTSTAMP:20141103T003845Z
DTSTART:20141213T041500Z
DTEND:20141213T081500Z
SUMMARY:Night Owl Cinema
GEO:-37.638654;176.183627
LOCATION:mt drury reserve\, Mount Maunganui\, New Zealand
END:VEVENT
END:VCALENDAR
