BEGIN:VCALENDAR
VERSION:2.0
PRODID:-//Squarespace Inc/Squarespace 6//v6//EN
BEGIN:VEVENT
UID:540fafd1e4b06e9036e90e94@squarespace.com
DTSTAMP:20141103T004001Z
DTSTART:20141220T001500Z
DTEND:20141220T074500Z
SUMMARY:Tauranga's Christmas in the Park
GEO:-37.652546;176.192339
LOCATION:Tauranga's Christmas in the Park\, Blake Park\, Mount Maunganui\, 
 New Zealand
END:VEVENT
END:VCALENDAR
