BEGIN:VCALENDAR
VERSION:2.0
PRODID:-//Squarespace Inc/Squarespace 6//v6//EN
BEGIN:VEVENT
UID:540fb1a5e4b02a51b001a3f2@squarespace.com
DTSTAMP:20141103T003737Z
DTSTART:20150107T231500Z
DTEND:20150108T081500Z
SUMMARY:On the Lawn
GEO:-37.652546;176.192339
LOCATION:On the Lawn\, Blake Park\, Mount Maunganui\, New Zealand
END:VEVENT
END:VCALENDAR
