BEGIN:VCALENDAR
VERSION:2.0
PRODID:-//Squarespace Inc/Squarespace 6//v6//EN
BEGIN:VEVENT
UID:540fb278e4b082c01d652d9a@squarespace.com
DTSTAMP:20141103T004154Z
DTSTART:20150111T041500Z
DTEND:20150111T081500Z
SUMMARY:Night Owl Cinema
GEO:-37.634646;176.183123
LOCATION:Night Owl Cinema\, Mt Drury Reserve\, Mount Maunganui\, New Zealan
 d
END:VEVENT
END:VCALENDAR
