BEGIN:VCALENDAR
VERSION:2.0
PRODID:-//Squarespace Inc/Squarespace 6//v6//EN
BEGIN:VEVENT
UID:540fb106e4b06256da3a65b2@squarespace.com
DTSTAMP:20141103T004105Z
DTSTART:20150102T191500Z
DTEND:20150103T001500Z
SUMMARY:The Little Big Markets - Mount Maunganui
GEO:-37.646875;176.190383
LOCATION:The Little Big Markets\, 410 Maunganui Rd\, Tauranga\, Bay Of Plen
 ty\, 3116\, New Zealand
END:VEVENT
END:VCALENDAR
