BEGIN:VCALENDAR
VERSION:2.0
PRODID:-//Squarespace Inc/Squarespace 6//v6//EN
BEGIN:VEVENT
UID:558a010ee4b0dfba0a296c17@squarespace.com
DTSTAMP:20150624T024356Z
DTSTART:20151016T191500Z
DTEND:20151017T011500Z
SUMMARY:The Little Big Markets - Papamoa 
GEO:-37.707595;176.284754
LOCATION:The Little Big Markets\, Papamoa Beach Domain\, Papamoa Beach Road
 \, New Zealand
END:VEVENT
END:VCALENDAR
