BEGIN:VCALENDAR
VERSION:2.0
PRODID:-//Squarespace Inc/Squarespace 6//v6//EN
BEGIN:VEVENT
UID:558a1408e4b02506029fff92@squarespace.com
DTSTAMP:20151002T004408Z
DTSTART:20151023T201500Z
DTEND:20151024T011500Z
SUMMARY:ANZ Community Day
GEO:-37.683338;176.170068
LOCATION:Tauranga Arts Festival\, The Strand\, Tauranga\, New Zealand
END:VEVENT
END:VCALENDAR
