BEGIN:VCALENDAR
VERSION:2.0
PRODID:-//Squarespace Inc/Squarespace 6//v6//EN
BEGIN:VEVENT
UID:5589f76de4b0fa1db7df5f68@squarespace.com
DTSTAMP:20150624T005020Z
DTSTART:20151002T191500Z
DTEND:20151003T011500Z
SUMMARY:The Little Big Markets - Mount Maunganui
GEO:-37.647217;176.190764
LOCATION:The Little Big Markets\, Corner Matai St and Maunganui Rd\, Mount 
 Maunganui\, New Zealand
END:VEVENT
END:VCALENDAR
