BEGIN:VCALENDAR
VERSION:2.0
PRODID:-//Squarespace Inc/Squarespace 6//v6//EN
BEGIN:VEVENT
UID:558a0625e4b001b8b7473393@squarespace.com
DTSTAMP:20150624T012958Z
DTSTART:20151114T041500Z
DTEND:20151114T084500Z
SUMMARY:Night Owl Cinema
GEO:-37.634871;176.180974
LOCATION:Night Owl Cinema\, Mount Drury\, Grace Avenue\, Mount Maunganui\, 
 New Zealand
END:VEVENT
END:VCALENDAR
