BEGIN:VCALENDAR
VERSION:2.0
PRODID:-//Squarespace Inc/Squarespace 6//v6//EN
BEGIN:VEVENT
UID:558b5093e4b084bef1ca40a1@squarespace.com
DTSTAMP:20150625T005209Z
DTSTART:20151113T191500Z
DTEND:20151114T001500Z
SUMMARY:Victoria Park Market - Auckland
GEO:-36.848321;174.754371
LOCATION:Victoria Park Market\, 210 - 218 Victoria Street West\, Auckland\, 
 New Zealand
END:VEVENT
END:VCALENDAR
