BEGIN:VCALENDAR
VERSION:2.0
PRODID:-//Squarespace Inc/Squarespace 6//v6//EN
BEGIN:VEVENT
UID:558a025ee4b050b2d0dc85cf@squarespace.com
DTSTAMP:20150921T075639Z
DTSTART:20151121T191500Z
DTEND:20151122T001500Z
SUMMARY:Santa Parade - Palm Beach 
GEO:-37.697805;176.271422
LOCATION:The Little Big Markets\, Palm Beach Boulevard\, Papamoa\, New Zeal
 and
END:VEVENT
END:VCALENDAR
