BEGIN:VCALENDAR
VERSION:2.0
PRODID:-//Squarespace Inc/Squarespace 6//v6//EN
BEGIN:VEVENT
UID:558b50efe4b03ccd84e13f8e@squarespace.com
DTSTAMP:20150625T005339Z
DTSTART:20151127T191500Z
DTEND:20151128T001500Z
SUMMARY:Victoria Park Market - Auckland
GEO:-36.848321;174.754371
LOCATION:Victoria Park Market\, 210 - 218 Victoria Street West\, Auckland\, 
 New Zealand
END:VEVENT
END:VCALENDAR
