BEGIN:VCALENDAR
VERSION:2.0
PRODID:-//Squarespace Inc/Squarespace 6//v6//EN
BEGIN:VEVENT
UID:558a1c66e4b01285c1bd00a4@squarespace.com
DTSTAMP:20150624T025733Z
DTSTART:20151210T034500Z
DTEND:20151210T071500Z
SUMMARY:Dinner In The Domain
GEO:-37.710751;176.322905
LOCATION:Dinner In The Domain\, Papamoa Domain\, Papamoa Beach Road\, New Z
 ealand
END:VEVENT
END:VCALENDAR
