BEGIN:VCALENDAR
VERSION:2.0
PRODID:-//Squarespace Inc/Squarespace 6//v6//EN
BEGIN:VEVENT
UID:558a02cbe4b0bab95f3f5995@squarespace.com
DTSTAMP:20151023T222712Z
DTSTART:20151211T191500Z
DTEND:20151212T001500Z
SUMMARY:The Little Big Markets - Papamoa
GEO:-37.707595;176.284754
LOCATION:The Little Big Markets\, Papamoa Beach Domain\, Papamoa Beach Road
 \, New Zealand
END:VEVENT
END:VCALENDAR
