BEGIN:VCALENDAR
VERSION:2.0
PRODID:-//Squarespace Inc/Squarespace 6//v6//EN
BEGIN:VEVENT
UID:558a0c3ce4b0e9f43def036c@squarespace.com
DTSTAMP:20150624T015916Z
DTSTART:20151219T001500Z
DTEND:20151219T071500Z
SUMMARY:Tauranga's Christmas In The Park
GEO:-37.652546;176.192339
LOCATION:Tauranga's Christmas In The Park\, Blake Park\, Mount Maunganui\, 
 New Zealand
END:VEVENT
END:VCALENDAR
