BEGIN:VCALENDAR
VERSION:2.0
PRODID:-//Squarespace Inc/Squarespace 6//v6//EN
BEGIN:VEVENT
UID:558a1ce0e4b0250602a02c8a@squarespace.com
DTSTAMP:20150624T025917Z
DTSTART:20151224T034500Z
DTEND:20151224T071500Z
SUMMARY:Dinner In The Domain
GEO:-37.710751;176.322905
LOCATION:Dinner In The Domain\, Papamoa Domain\, Papamoa Beach Road\, New Z
 ealand
END:VEVENT
END:VCALENDAR
