BEGIN:VCALENDAR
VERSION:2.0
PRODID:-//Squarespace Inc/Squarespace 6//v6//EN
BEGIN:VEVENT
UID:558b51c4e4b04eac6fa7c9e2@squarespace.com
DTSTAMP:20150925T034501Z
DTSTART:20151223T031500Z
DTEND:20151223T074500Z
SUMMARY:Victoria Park Night Market - Auckland
GEO:-36.848321;174.754371
LOCATION:Victoria Park Market\, 210 - 218 Victoria Street West\, Auckland\, 
 New Zealand
END:VEVENT
END:VCALENDAR
