BEGIN:VCALENDAR
VERSION:2.0
PRODID:-//Squarespace Inc/Squarespace 6//v6//EN
BEGIN:VEVENT
UID:558a1c20e4b00da0be36b4d1@squarespace.com
DTSTAMP:20150624T025627Z
DTSTART:20151203T034500Z
DTEND:20151203T071500Z
SUMMARY:Dinner In The Domain
GEO:-37.720776;176.35036
LOCATION:Dinner In The Domain\, Papamoa Domain\, Papamoa Beach Road\, New Z
 ealand
END:VEVENT
END:VCALENDAR
