BEGIN:VCALENDAR
VERSION:2.0
PRODID:-//Squarespace Inc/Squarespace 6//v6//EN
BEGIN:VEVENT
UID:558a1d0fe4b05b3199ae348a@squarespace.com
DTSTAMP:20150624T030003Z
DTSTART:20151231T034500Z
DTEND:20151231T071500Z
SUMMARY:Dinner In The Domain
GEO:-37.710751;176.322905
LOCATION:Dinner In The Domain\, Papamoa Domain\, Papamoa Beach Road\, New Z
 ealand
END:VEVENT
END:VCALENDAR
