BEGIN:VCALENDAR
VERSION:2.0
PRODID:-//Squarespace Inc/Squarespace 6//v6//EN
BEGIN:VEVENT
UID:540fdbb6e4b04f85eb697a28@squarespace.com
DTSTAMP:20141103T004532Z
DTSTART:20150214T041500Z
DTEND:20150214T081500Z
SUMMARY:Night Owl Cinema
GEO:-37.634646;176.183123
LOCATION:Night Owl Cinema\, Mt Drury Reserve\, Mount Maunganui\, New Zealan
 d
END:VEVENT
END:VCALENDAR
