BEGIN:VCALENDAR
VERSION:2.0
PRODID:-//Squarespace Inc/Squarespace 6//v6//EN
BEGIN:VEVENT
UID:540fdc38e4b07fe1be592394@squarespace.com
DTSTAMP:20141103T004620Z
DTSTART:20150131T191500Z
DTEND:20150201T001500Z
SUMMARY:The Little Big Markets - Papamoa
GEO:-37.697531;176.285952
LOCATION:The Little Big Markets\, 561 Papamoa Beach Rd\, Papamoa\, Bay Of P
 lenty\, 3118\, New Zealand
END:VEVENT
END:VCALENDAR
