BEGIN:VCALENDAR
VERSION:2.0
PRODID:-//Squarespace Inc/Squarespace 6//v6//EN
BEGIN:VEVENT
UID:540fdaa4e4b00c94d884f12e@squarespace.com
DTSTAMP:20141103T004352Z
DTSTART:20150205T034500Z
DTEND:20150205T071500Z
SUMMARY:Dinner in the Domain
GEO:-37.697531;176.285952
LOCATION:Dinner in the Domain\, 561 Papamoa Beach Rd\, Papamoa\, Bay Of Ple
 nty\, 3118\, New Zealand
END:VEVENT
END:VCALENDAR
