BEGIN:VCALENDAR
VERSION:2.0
PRODID:-//Squarespace Inc/Squarespace 6//v6//EN
BEGIN:VEVENT
UID:540fdb28e4b0f3a0bb753c17@squarespace.com
DTSTAMP:20150128T043551Z
DTSTART:20150207T191500Z
DTEND:20150208T011500Z
SUMMARY:Beach Front Festival
GEO:-37.696799;176.284114
LOCATION:Beach Front Festival\, 535 Papamoa Beach Rd\, Papamoa\, Bay Of Ple
 nty\, 3118\, New Zealand
END:VEVENT
END:VCALENDAR
