BEGIN:VCALENDAR
VERSION:2.0
PRODID:-//Squarespace Inc/Squarespace 6//v6//EN
BEGIN:VEVENT
UID:54f66ebce4b0b0b38754dd05@squarespace.com
DTSTAMP:20150304T023832Z
DTSTART:20150314T034500Z
DTEND:20150314T094500Z
SUMMARY:Night Owl Cinema - People Choice
GEO:-37.637162;176.183073
LOCATION:Mount Drury\, Mount Maunganui Rd\, Tauranga\, Bay Of Plenty\, 3116
 \, New Zealand
END:VEVENT
END:VCALENDAR
