BEGIN:VCALENDAR
VERSION:2.0
PRODID:-//Squarespace Inc/Squarespace 6//v6//EN
BEGIN:VEVENT
UID:54f66cbce4b0842f8e66264f@squarespace.com
DTSTAMP:20150304T023035Z
DTSTART:20150322T034500Z
DTEND:20150322T084500Z
SUMMARY:Aotearoa Surf Film Festival
GEO:-37.638654;176.183627
LOCATION:Mount Drury\, Mount Maunganui
END:VEVENT
END:VCALENDAR
