BEGIN:VCALENDAR
VERSION:2.0
PRODID:-//Squarespace Inc/Squarespace 6//v6//EN
BEGIN:VEVENT
UID:5456da16e4b004a6088560ad@squarespace.com
DTSTAMP:20150304T021601Z
DTSTART:20150321T191500Z
DTEND:20150322T001500Z
SUMMARY:The Little Big Markets - Papamoa
GEO:-37.697531;176.285952
LOCATION:The Little Big Markets - Papamoa\, 561 Papamoa Beach Rd\, Papamoa\
 , Bay Of Plenty\, 3118\, New Zealand
END:VEVENT
END:VCALENDAR
