BEGIN:VCALENDAR
VERSION:2.0
PRODID:-//Squarespace Inc/Squarespace 6//v6//EN
BEGIN:VEVENT
UID:54f66749e4b01a99c2f4edec@squarespace.com
DTSTAMP:20150304T021205Z
DTSTART:20150313T201500Z
DTEND:20150314T001500Z
SUMMARY:Teeki Tour - Mount Maunganui
END:VEVENT
END:VCALENDAR
