BEGIN:VCALENDAR
VERSION:2.0
PRODID:-//Squarespace Inc/Squarespace 6//v6//EN
BEGIN:VEVENT
UID:5456d0dbe4b004a60885447c@squarespace.com
DTSTAMP:20141103T013527Z
DTSTART:20150305T034500Z
DTEND:20150305T071500Z
SUMMARY:Dinner in the Domain
GEO:-37.697531;176.285952
LOCATION:Dinner in the Domain\, 561 Papamoa Beach Rd\, Papamoa\, Bay Of Ple
 nty\, 3118\, New Zealand
END:VEVENT
END:VCALENDAR
