BEGIN:VCALENDAR
VERSION:2.0
PRODID:-//Squarespace Inc/Squarespace 6//v6//EN
BEGIN:VEVENT
UID:5456d9e1e4b025b16a6fe603@squarespace.com
DTSTAMP:20150306T220544Z
DTSTART:20150306T191500Z
DTEND:20150307T001500Z
SUMMARY:The Little Big Markets has been cancelled today.
GEO:-37.646875;176.190383
LOCATION:The Little Big Markets\, 410 Maunganui Rd\, Tauranga\, Bay Of Plen
 ty\, 3116\, New Zealand
END:VEVENT
END:VCALENDAR
