BEGIN:VCALENDAR
VERSION:2.0
PRODID:-//Squarespace Inc/Squarespace 6//v6//EN
BEGIN:VEVENT
UID:54f6654fe4b00ed713548f6e@squarespace.com
DTSTAMP:20150304T015943Z
DTSTART:20150308T044500Z
DTEND:20150308T094500Z
SUMMARY:Night Owl Cinema - O'Week Edition
GEO:-37.636114;176.18231
LOCATION:Astrolabe Brew Bar\, 82 Maunganui Rd\, Tauranga\, Bay Of Plenty\, 
 3116\, New Zealand
END:VEVENT
END:VCALENDAR
