BEGIN:VCALENDAR
VERSION:2.0
PRODID:-//Squarespace Inc/Squarespace 6//v6//EN
BEGIN:VEVENT
UID:54f67173e4b0af5c163b494a@squarespace.com
DTSTAMP:20150304T024946Z
DTSTART:20150411T081500Z
DTEND:20150411T091500Z
SUMMARY:Surfing NZ colab with The Little Big Markets
GEO:-37.696799;176.284114
LOCATION:Papamoa Domain\, 535 Papamoa Beach Rd\, Papamoa\, Bay Of Plenty\, 
 3118\, New Zealand
END:VEVENT
END:VCALENDAR
