BEGIN:VCALENDAR
VERSION:2.0
PRODID:-//Squarespace Inc/Squarespace 6//v6//EN
BEGIN:VEVENT
UID:54f67061e4b02bda0d296fb3@squarespace.com
DTSTAMP:20150304T024331Z
DTSTART:20150404T071500Z
DTEND:20150404T081500Z
SUMMARY:The Little Big Markets - Mount Maunganui
GEO:-37.656872;176.201352
LOCATION:The Little Big Markets\, Maunganui Rd\, Tauranga\, Bay Of Plenty\, 
 3116\, New Zealand
END:VEVENT
END:VCALENDAR
