BEGIN:VCALENDAR
VERSION:2.0
PRODID:-//Squarespace Inc/Squarespace 6//v6//EN
BEGIN:VEVENT
UID:551c9a84e4b00a2ae5e4e5ad@squarespace.com
DTSTAMP:20150402T013217Z
DTSTART:20150501T201500Z
DTEND:20150502T011500Z
SUMMARY:The Little Big Markets - Mount Maunganui
GEO:-37.643183;176.18738
LOCATION:The Little Big Markets\, 345 Maunganui Rd\, Tauranga\, Bay Of Plen
 ty\, 3116\, New Zealand
END:VEVENT
END:VCALENDAR
