BEGIN:VCALENDAR
VERSION:2.0
PRODID:-//Squarespace Inc/Squarespace 6//v6//EN
BEGIN:VEVENT
UID:5589ff1ee4b0e953156b5c59@squarespace.com
DTSTAMP:20151023T222839Z
DTSTART:20151106T191500Z
DTEND:20151107T001500Z
SUMMARY:The Little Big Markets - Mount Maunganui
GEO:-37.647217;176.190764
LOCATION:The Little Big Markets\, Corner Matai St and Maunganui Rd\, Mount 
 Maunganui\, New Zealand
END:VEVENT
END:VCALENDAR
