BEGIN:VCALENDAR
VERSION:2.0
PRODID:-//Squarespace Inc/Squarespace 6//v6//EN
BEGIN:VEVENT
UID:551c9c4ce4b07127600243d7@squarespace.com
DTSTAMP:20150402T013825Z
DTSTART:20150605T201500Z
DTEND:20150606T011500Z
SUMMARY:The Little Big Markets - Mount Maunganui
GEO:-37.643183;176.18738
LOCATION:The Little Big Markets\, 345 Maunganui Rd\, Tauranga\, Bay Of Plen
 ty\, 3116\, New Zealand
END:VEVENT
END:VCALENDAR
