BEGIN:VCALENDAR
VERSION:2.0
PRODID:-//Squarespace Inc/Squarespace 6//v6//EN
BEGIN:VEVENT
UID:558a090ae4b0cdce3addd386@squarespace.com
DTSTAMP:20150624T014202Z
DTSTART:20150702T051500Z
DTEND:20150702T091500Z
SUMMARY:Screening of The True Cost - A Fashion Documentary
GEO:-37.685396;176.170033
LOCATION:The Studio\, 145 The Strand\, Tauranga\, New Zealand
END:VEVENT
END:VCALENDAR
