BEGIN:VCALENDAR
VERSION:2.0
PRODID:-//Squarespace Inc/Squarespace 6//v6//EN
BEGIN:VEVENT
UID:551cacfbe4b06708eb1b9b93@squarespace.com
DTSTAMP:20150402T024540Z
DTSTART:20150725T211500Z
DTEND:20150726T021500Z
SUMMARY:The Little Big Vintage Markets - Mount Maunganui
GEO:-37.636114;176.18231
LOCATION:Astrolabe Brew Bar\, 82 Maunganui Rd\, Tauranga\, Bay Of Plenty\, 
 3116\, New Zealand
END:VEVENT
END:VCALENDAR
