BEGIN:VCALENDAR
VERSION:2.0
PRODID:-//Squarespace Inc/Squarespace 6//v6//EN
BEGIN:VEVENT
UID:551c9df2e4b0440bd8498208@squarespace.com
DTSTAMP:20150402T014002Z
DTSTART:20150703T044500Z
DTEND:20150703T064500Z
SUMMARY:Food Truck Friday - Mount Maunganui
GEO:-37.654404;176.197408
LOCATION:Food Truck Friday\, 5 Hull Rd\, Tauranga\, Bay Of Plenty\, 3116\, 
 New Zealand
END:VEVENT
END:VCALENDAR
