BEGIN:VCALENDAR
VERSION:2.0
PRODID:-//Squarespace Inc/Squarespace 6//v6//EN
BEGIN:VEVENT
UID:558a0b28e4b0704722850c54@squarespace.com
DTSTAMP:20150624T014553Z
DTSTART:20150702T221500Z
DTEND:20150703T041500Z
SUMMARY:Ladies Long Charity Lunch
GEO:-37.685435;176.225388
LOCATION:ASB Baypark Stadium\, 81 Truman Lane\, Mount Maunganui\, New Zeala
 nd
END:VEVENT
END:VCALENDAR
