BEGIN:VCALENDAR
VERSION:2.0
PRODID:-//Squarespace Inc/Squarespace 6//v6//EN
BEGIN:VEVENT
UID:551cad5fe4b0c2174c402b7f@squarespace.com
DTSTAMP:20150402T024644Z
DTSTART:20150822T211500Z
DTEND:20150823T021500Z
SUMMARY:The Little Big Vintage Markets - Mount Maunganui
GEO:-37.654404;176.197408
LOCATION:Astrolabe Brew Bar\, 5 Hull Rd\, Tauranga\, Bay Of Plenty\, 3116\, 
 New Zealand
END:VEVENT
END:VCALENDAR
