BEGIN:VCALENDAR
VERSION:2.0
PRODID:-//Squarespace Inc/Squarespace 6//v6//EN
BEGIN:VEVENT
UID:551ca9c3e4b06a2886ea8c55@squarespace.com
DTSTAMP:20150402T023127Z
DTSTART:20150911T044500Z
DTEND:20150911T064500Z
SUMMARY:Food Truck Friday - Mount Maunganui
GEO:-37.654404;176.197408
LOCATION:Food Truck Friday\, 5 Hull Rd\, Tauranga\, Bay Of Plenty\, 3116\, 
 New Zealand
END:VEVENT
END:VCALENDAR
