BEGIN:VCALENDAR
VERSION:2.0
PRODID:-//Squarespace Inc/Squarespace 6//v6//EN
BEGIN:VEVENT
UID:551cad9fe4b0e907db8d45be@squarespace.com
DTSTAMP:20150402T024747Z
DTSTART:20150926T201500Z
DTEND:20150927T021500Z
SUMMARY:The Little Big Vintage Markets - Mount Maunganui
GEO:-37.636114;176.18231
LOCATION:Astrolabe Brew Bar\, 82 Maunganui Rd\, Tauranga\, Bay Of Plenty\, 
 3116\, New Zealand
END:VEVENT
END:VCALENDAR
